BEGIN:VCALENDAR
VERSION:2.0
PRODID:-//BDTA - ECPv6.15.20//NONSGML v1.0//EN
CALSCALE:GREGORIAN
METHOD:PUBLISH
X-ORIGINAL-URL:https://www.bdta.de
X-WR-CALDESC:Veranstaltungen für BDTA
REFRESH-INTERVAL;VALUE=DURATION:PT1H
X-Robots-Tag:noindex
X-PUBLISHED-TTL:PT1H
BEGIN:VTIMEZONE
TZID:Europe/Berlin
BEGIN:DAYLIGHT
TZOFFSETFROM:+0100
TZOFFSETTO:+0200
TZNAME:CEST
DTSTART:20230326T010000
END:DAYLIGHT
BEGIN:STANDARD
TZOFFSETFROM:+0200
TZOFFSETTO:+0100
TZNAME:CET
DTSTART:20231029T010000
END:STANDARD
BEGIN:DAYLIGHT
TZOFFSETFROM:+0100
TZOFFSETTO:+0200
TZNAME:CEST
DTSTART:20240331T010000
END:DAYLIGHT
BEGIN:STANDARD
TZOFFSETFROM:+0200
TZOFFSETTO:+0100
TZNAME:CET
DTSTART:20241027T010000
END:STANDARD
BEGIN:DAYLIGHT
TZOFFSETFROM:+0100
TZOFFSETTO:+0200
TZNAME:CEST
DTSTART:20250330T010000
END:DAYLIGHT
BEGIN:STANDARD
TZOFFSETFROM:+0200
TZOFFSETTO:+0100
TZNAME:CET
DTSTART:20251026T010000
END:STANDARD
END:VTIMEZONE
BEGIN:VEVENT
DTSTART;TZID=Europe/Berlin:20241106T100000
DTEND;TZID=Europe/Berlin:20241106T160000
DTSTAMP:20260421T164636
CREATED:20230719T094403Z
LAST-MODIFIED:20240704T062610Z
UID:1539-1730887200-1730908800@www.bdta.de
SUMMARY:Regionalversammlung Süd
DESCRIPTION:Im Namen des BDTA heißen wir unsere Mitglieder zur BDTA-Regionalversammlung Süd am Mittwoch\, 06. November 2024\, im Hotel & Restaurants Seligweiler in Ulm herzlich willkommen! \nZu Beginn dieser Veranstaltung werden verschiedene automatentechnisch versierte Unternehmen innerhalb der „tabatec“ ihre neuesten Produkte zur Schau stellen. \nNach der tabatec werden die Mitglieder über die technischen sowie politischen Entwicklungen im Bereich des Tabakwarengroßhandels und Automatengeschäfts informiert und können sich im Anschluss in geselliger Atmosphäre über etwaige Themen austauschen.
URL:https://www.bdta.de/kalender/regionalversammlung-sued-2/
CATEGORIES:Regionalversammlung
END:VEVENT
END:VCALENDAR